BEGIN:VCALENDAR
VERSION:2.0
PRODID:icalendar-ruby
CALSCALE:GREGORIAN
METHOD:PUBLISH
BEGIN:VEVENT
DTSTAMP:20260422T092302Z
UID:24-286773@messageforthemountain.com
DTSTART:20261011T151500Z
DTEND:20261011T161500Z
CLASS:PUBLIC
CREATED:20260421T203821
DESCRIPTION:
LAST-MODIFIED:20260421T203821
LOCATION:
SUMMARY:Sunday Morning Service
URL;VALUE=URI:https://www.messageforthemountain.com/events/sunday-morning-s
 ervice/2026-10-11
END:VEVENT
END:VCALENDAR
