BEGIN:VCALENDAR
VERSION:2.0
PRODID:icalendar-ruby
CALSCALE:GREGORIAN
METHOD:PUBLISH
BEGIN:VEVENT
DTSTAMP:20260424T102938Z
UID:24-288959@messageforthemountain.com
DTSTART:20261025T151500Z
DTEND:20261025T161500Z
CLASS:PUBLIC
CREATED:20260423T221408
DESCRIPTION:
LAST-MODIFIED:20260423T221408
LOCATION:
SUMMARY:Sunday Morning Service
URL;VALUE=URI:https://www.messageforthemountain.com/events/sunday-morning-s
 ervice/2026-10-25
END:VEVENT
END:VCALENDAR
