BEGIN:VCALENDAR
VERSION:2.0
PRODID:icalendar-ruby
CALSCALE:GREGORIAN
METHOD:PUBLISH
BEGIN:VEVENT
DTSTAMP:20260424T120627Z
UID:24-289142@messageforthemountain.com
DTSTART:20261101T161500Z
DTEND:20261101T171500Z
CLASS:PUBLIC
CREATED:20260424T074227
DESCRIPTION:
LAST-MODIFIED:20260424T074227
LOCATION:
SUMMARY:Sunday Morning Service
URL;VALUE=URI:https://www.messageforthemountain.com/events/sunday-morning-s
 ervice/2026-11-01
END:VEVENT
END:VCALENDAR
